BEGIN:VCALENDAR
VERSION:2.0
PRODID:-//fighting for our future - ECPv6.15.14//NONSGML v1.0//EN
CALSCALE:GREGORIAN
METHOD:PUBLISH
X-ORIGINAL-URL:https://fightingforourfuture.com.au
X-WR-CALDESC:Events for fighting for our future
REFRESH-INTERVAL;VALUE=DURATION:PT1H
X-Robots-Tag:noindex
X-PUBLISHED-TTL:PT1H
BEGIN:VTIMEZONE
TZID:Australia/Sydney
BEGIN:STANDARD
TZOFFSETFROM:+1100
TZOFFSETTO:+1000
TZNAME:AEST
DTSTART:20230401T160000
END:STANDARD
BEGIN:DAYLIGHT
TZOFFSETFROM:+1000
TZOFFSETTO:+1100
TZNAME:AEDT
DTSTART:20230930T160000
END:DAYLIGHT
BEGIN:STANDARD
TZOFFSETFROM:+1100
TZOFFSETTO:+1000
TZNAME:AEST
DTSTART:20240406T160000
END:STANDARD
BEGIN:DAYLIGHT
TZOFFSETFROM:+1000
TZOFFSETTO:+1100
TZNAME:AEDT
DTSTART:20241005T160000
END:DAYLIGHT
BEGIN:STANDARD
TZOFFSETFROM:+1100
TZOFFSETTO:+1000
TZNAME:AEST
DTSTART:20250405T160000
END:STANDARD
BEGIN:DAYLIGHT
TZOFFSETFROM:+1000
TZOFFSETTO:+1100
TZNAME:AEDT
DTSTART:20251004T160000
END:DAYLIGHT
END:VTIMEZONE
BEGIN:VEVENT
DTSTART;VALUE=DATE:20240911
DTEND;VALUE=DATE:20240912
DTSTAMP:20260420T181624
CREATED:20240718T105755Z
LAST-MODIFIED:20250123T003749Z
UID:10000011-1726012800-1726099199@fightingforourfuture.com.au
SUMMARY:EA bargaining meeting #12
DESCRIPTION:
URL:https://fightingforourfuture.com.au/event/ea-bargaining-meeting-12/
LOCATION:Trades Hall
END:VEVENT
BEGIN:VEVENT
DTSTART;VALUE=DATE:20240912
DTEND;VALUE=DATE:20240913
DTSTAMP:20260420T181624
CREATED:20240718T105846Z
LAST-MODIFIED:20250123T003740Z
UID:10000012-1726099200-1726185599@fightingforourfuture.com.au
SUMMARY:EA bargaining meeting #13
DESCRIPTION:
URL:https://fightingforourfuture.com.au/event/ea-bargaining-meeting-13/
LOCATION:Trades Hall
END:VEVENT
BEGIN:VEVENT
DTSTART;VALUE=DATE:20240925
DTEND;VALUE=DATE:20240926
DTSTAMP:20260420T181624
CREATED:20240718T105920Z
LAST-MODIFIED:20250123T003729Z
UID:10000013-1727222400-1727308799@fightingforourfuture.com.au
SUMMARY:EA bargaining meeting #14
DESCRIPTION:
URL:https://fightingforourfuture.com.au/event/ea-bargaining-meeting-14/
LOCATION:Quantum Terminal Central Station
END:VEVENT
BEGIN:VEVENT
DTSTART;VALUE=DATE:20240926
DTEND;VALUE=DATE:20240927
DTSTAMP:20260420T181624
CREATED:20240718T105951Z
LAST-MODIFIED:20250123T003721Z
UID:10000014-1727308800-1727395199@fightingforourfuture.com.au
SUMMARY:EA bargaining meeting #15
DESCRIPTION:
URL:https://fightingforourfuture.com.au/event/ea-bargaining-meeting-15/
LOCATION:Quantum Terminal Central Station
END:VEVENT
END:VCALENDAR